BEGIN:VCALENDAR
VERSION:2.0
CALSCALE:GREGORIAN
METHOD:PUBLISH
X-WR-TIMEZONE:Australia/Sydney
BEGIN:VTIMEZONE
TZID:Australia/Sydney
BEGIN:STANDARD
TZNAME:AEST
DTSTART:19700101T000000
TZOFFSETFROM:+1100
TZOFFSETTO:+1000
END:STANDARD
END:VTIMEZONE
BEGIN:VEVENT
DTSTART;TZID=Australia/Sydney:20240307
DTEND;TZID=Australia/Sydney:20240307
DTSTAMP:20260425T015124
UID:237
SUMMARY:Pupil Free Days
DESCRIPTION:




This is a reminder that there will be NO SCHOOL&amp;nbsp;on Thursday 7th and Friday 8th of March, due to curriculum days. School returns as normal on Tuesday 12th March.


SEQUENCE:0
STATUS:CONFIRMED
TRANSP:OPAQUE
END:VEVENT
END:VCALENDAR